BEGIN:VCALENDAR
VERSION:2.0
PRODID:-//ACCV - ECPv6.2.8.2//NONSGML v1.0//EN
CALSCALE:GREGORIAN
METHOD:PUBLISH
X-WR-CALNAME:ACCV
X-ORIGINAL-URL:https://accv.ch
X-WR-CALDESC:évènements pour ACCV
REFRESH-INTERVAL;VALUE=DURATION:PT1H
X-Robots-Tag:noindex
X-PUBLISHED-TTL:PT1H
BEGIN:VTIMEZONE
TZID:Europe/Paris
BEGIN:DAYLIGHT
TZOFFSETFROM:+0100
TZOFFSETTO:+0200
TZNAME:CEST
DTSTART:20230326T010000
END:DAYLIGHT
BEGIN:STANDARD
TZOFFSETFROM:+0200
TZOFFSETTO:+0100
TZNAME:CET
DTSTART:20231029T010000
END:STANDARD
END:VTIMEZONE
BEGIN:VEVENT
DTSTART;TZID=Europe/Paris:20230401T140000
DTEND;TZID=Europe/Paris:20230401T200000
DTSTAMP:20260421T163243
CREATED:20230309T142628Z
LAST-MODIFIED:20230309T142628Z
UID:3250-1680357600-1680379200@accv.ch
SUMMARY:UCI C1 OPEN BMX RFORCE8
DESCRIPTION:Open international de BMX distribuant des points pour la qualification en vue des JO de Paris 2024
URL:https://accv.ch/event/uci-c1-open-bmx-rforce8/
LOCATION:BMX Club Echichens\, Chemin Derrière le Bois\, Echichens\, 1112\, Suisse
CATEGORIES:BMX
ATTACH;FMTTYPE=image/jpeg:https://accv.ch/wp-content/uploads/2023/03/RForce8-Open.jpg
END:VEVENT
END:VCALENDAR