BEGIN:VCALENDAR
VERSION:2.0
PRODID:-//ACCV - ECPv6.2.8.2//NONSGML v1.0//EN
CALSCALE:GREGORIAN
METHOD:PUBLISH
X-WR-CALNAME:ACCV
X-ORIGINAL-URL:https://accv.ch
X-WR-CALDESC:évènements pour ACCV
REFRESH-INTERVAL;VALUE=DURATION:PT1H
X-Robots-Tag:noindex
X-PUBLISHED-TTL:PT1H
BEGIN:VTIMEZONE
TZID:Europe/Paris
BEGIN:DAYLIGHT
TZOFFSETFROM:+0100
TZOFFSETTO:+0200
TZNAME:CEST
DTSTART:20220327T010000
END:DAYLIGHT
BEGIN:STANDARD
TZOFFSETFROM:+0200
TZOFFSETTO:+0100
TZNAME:CET
DTSTART:20221030T010000
END:STANDARD
BEGIN:DAYLIGHT
TZOFFSETFROM:+0100
TZOFFSETTO:+0200
TZNAME:CEST
DTSTART:20230326T010000
END:DAYLIGHT
BEGIN:STANDARD
TZOFFSETFROM:+0200
TZOFFSETTO:+0100
TZNAME:CET
DTSTART:20231029T010000
END:STANDARD
BEGIN:DAYLIGHT
TZOFFSETFROM:+0100
TZOFFSETTO:+0200
TZNAME:CEST
DTSTART:20240331T010000
END:DAYLIGHT
BEGIN:STANDARD
TZOFFSETFROM:+0200
TZOFFSETTO:+0100
TZNAME:CET
DTSTART:20241027T010000
END:STANDARD
END:VTIMEZONE
BEGIN:VEVENT
DTSTART;TZID=Europe/Paris:20240629T120000
DTEND;TZID=Europe/Paris:20240629T170000
DTSTAMP:20260420T231402
CREATED:20240419T074355Z
LAST-MODIFIED:20240419T074355Z
UID:3725-1719662400-1719680400@accv.ch
SUMMARY:Championnat Suisse de vélo trial
DESCRIPTION:Venez retrouver les meilleurs pilotes helvétiques en catégorie Elite 20\, Elite 26\, Junior et femme\, lesquels tenteront de s’approprier le titre de Champion Suisse.
URL:https://accv.ch/event/championnat-suisse-de-velo-trial-3/
LOCATION:Ropraz
CATEGORIES:Trial
ATTACH;FMTTYPE=image/png:https://accv.ch/wp-content/uploads/2023/02/logo-vtbj_1200_whitebg.png
ORGANIZER;CN="V%C3%A9lo trial Broye Jorat":MAILTO:velotrial.broyejorat@gmail.com
END:VEVENT
BEGIN:VEVENT
DTSTART;TZID=Europe/Paris:20240428T080000
DTEND;TZID=Europe/Paris:20240428T170000
DTSTAMP:20260420T231402
CREATED:20240304T071700Z
LAST-MODIFIED:20240419T074029Z
UID:3532-1714291200-1714323600@accv.ch
SUMMARY:Swiss Cup #2
DESCRIPTION:
URL:https://accv.ch/event/swiss-cup-2/
LOCATION:Malvaglia\, Suisse
CATEGORIES:Trial
END:VEVENT
BEGIN:VEVENT
DTSTART;TZID=Europe/Paris:20240427T080000
DTEND;TZID=Europe/Paris:20240427T170000
DTSTAMP:20260420T231402
CREATED:20240304T071626Z
LAST-MODIFIED:20240419T073905Z
UID:3530-1714204800-1714237200@accv.ch
SUMMARY:Swiss Cup #1
DESCRIPTION:
URL:https://accv.ch/event/swiss-cup-1/
LOCATION:Malvaglia\, Suisse
CATEGORIES:Trial
END:VEVENT
BEGIN:VEVENT
DTSTART;VALUE=DATE:20231001
DTEND;VALUE=DATE:20231002
DTSTAMP:20260420T231402
CREATED:20230214T065650Z
LAST-MODIFIED:20230612T182449Z
UID:3171-1696118400-1696204799@accv.ch
SUMMARY:Coupe Suisse #9
DESCRIPTION:
URL:https://accv.ch/event/coupe-suisse-7-2/
LOCATION:Vordemwald\, Vordemwald\, Suisse
CATEGORIES:Trial
ATTACH;FMTTYPE=image/png:https://accv.ch/wp-content/uploads/2021/05/rvv.png
ORGANIZER;CN="Radfahrerverein Vordemwald":MAILTO:info@rvvordemwald.ch
END:VEVENT
BEGIN:VEVENT
DTSTART;VALUE=DATE:20230924
DTEND;VALUE=DATE:20230925
DTSTAMP:20260420T231402
CREATED:20230214T065555Z
LAST-MODIFIED:20230612T181232Z
UID:3169-1695513600-1695599999@accv.ch
SUMMARY:Coupe Suisse #8
DESCRIPTION:9e manche de la coupe Suisse dans le village campagnard de Ropraz\, idéalement situé à proximité de Lausanne. La compétition se déroulera aux alentours de la salle communale.
URL:https://accv.ch/event/coupe-suisse-6-3/
LOCATION:Ropraz
CATEGORIES:Trial
ATTACH;FMTTYPE=image/png:https://accv.ch/wp-content/uploads/2023/02/logo-vtbj_1200_whitebg.png
ORGANIZER;CN="V%C3%A9lo trial Broye Jorat":MAILTO:velotrial.broyejorat@gmail.com
END:VEVENT
BEGIN:VEVENT
DTSTART;VALUE=DATE:20230917
DTEND;VALUE=DATE:20230918
DTSTAMP:20260420T231402
CREATED:20230214T065840Z
LAST-MODIFIED:20230828T091103Z
UID:3175-1694908800-1694995199@accv.ch
SUMMARY:Coupe Suisse #7
DESCRIPTION:
URL:https://accv.ch/event/coupe-suisse-8/
LOCATION:Delémont\, Delémont\, Suisse
CATEGORIES:Trial
ATTACH;FMTTYPE=image/jpeg:https://accv.ch/wp-content/uploads/2023/02/WhatsApp-Image-2023-08-28-at-09.09.41.jpeg
END:VEVENT
BEGIN:VEVENT
DTSTART;VALUE=DATE:20230916
DTEND;VALUE=DATE:20230917
DTSTAMP:20260420T231402
CREATED:20230214T065734Z
LAST-MODIFIED:20230828T091200Z
UID:3173-1694822400-1694908799@accv.ch
SUMMARY:UCI Trials C1
DESCRIPTION:
URL:https://accv.ch/event/uci-trials-c1/
LOCATION:Delémont\, Delémont\, Suisse
CATEGORIES:Trial
ATTACH;FMTTYPE=image/jpeg:https://accv.ch/wp-content/uploads/2023/02/WhatsApp-Image-2023-08-28-at-09.09.41.jpeg
END:VEVENT
BEGIN:VEVENT
DTSTART;TZID=Europe/Paris:20230910T100000
DTEND;TZID=Europe/Paris:20230910T170000
DTSTAMP:20260420T231402
CREATED:20230816T111209Z
LAST-MODIFIED:20230829T055125Z
UID:3341-1694340000-1694365200@accv.ch
SUMMARY:Championnat vaudois jeunesse
DESCRIPTION:Dans le cadre de vélosanne\, se tiendront les 6e championnats vaudois jeunesse de vélo trial
URL:https://accv.ch/event/championnat-vaudois-jeunesse/
LOCATION:Lausanne\, place Milan
CATEGORIES:Trial
ATTACH;FMTTYPE=image/png:https://accv.ch/wp-content/uploads/2023/08/telechargement.png
ORGANIZER;CN="V%C3%A9lo trial Broye Jorat":MAILTO:velotrial.broyejorat@gmail.com
END:VEVENT
BEGIN:VEVENT
DTSTART;VALUE=DATE:20230901
DTEND;VALUE=DATE:20230904
DTSTAMP:20260420T231402
CREATED:20230612T181127Z
LAST-MODIFIED:20230612T182413Z
UID:3319-1693526400-1693785599@accv.ch
SUMMARY:UCI Trials World Cup #3
DESCRIPTION:
URL:https://accv.ch/event/uci-trials-world-cup/
CATEGORIES:Trial
ATTACH;FMTTYPE=image/png:https://accv.ch/wp-content/uploads/2023/02/telechargement.png
END:VEVENT
BEGIN:VEVENT
DTSTART;VALUE=DATE:20230827
DTEND;VALUE=DATE:20230828
DTSTAMP:20260420T231402
CREATED:20230214T065505Z
LAST-MODIFIED:20230612T182326Z
UID:3166-1693094400-1693180799@accv.ch
SUMMARY:Coupe Suisse #6
DESCRIPTION:
URL:https://accv.ch/event/coupe-suisse-5-2/
LOCATION:Vulliens\, Suisse
CATEGORIES:Trial
ATTACH;FMTTYPE=image/jpeg:https://accv.ch/wp-content/uploads/2021/05/14479604_1755845938003024_2388736009115105147_n.jpg
END:VEVENT
BEGIN:VEVENT
DTSTART;VALUE=DATE:20230803
DTEND;VALUE=DATE:20230813
DTSTAMP:20260420T231402
CREATED:20230214T064412Z
LAST-MODIFIED:20230214T065259Z
UID:3156-1691020800-1691884799@accv.ch
SUMMARY:UCI Cycling World Championships
DESCRIPTION:Voir le programme en lien pour toutes les compétitons
URL:https://accv.ch/event/uci-cycling-world-championship/
LOCATION:Glasgow
CATEGORIES:BMX,Route,Trial,VTT
ATTACH;FMTTYPE=image/png:https://accv.ch/wp-content/uploads/2023/02/og-image.png
END:VEVENT
BEGIN:VEVENT
DTSTART;VALUE=DATE:20230721
DTEND;VALUE=DATE:20230724
DTSTAMP:20260420T231402
CREATED:20230214T064217Z
LAST-MODIFIED:20230214T064217Z
UID:3153-1689897600-1690156799@accv.ch
SUMMARY:UCI Trials World Cup#2
DESCRIPTION:
URL:https://accv.ch/event/uci-trials-world-cup2/
LOCATION:Plaeuc-l’Hermitage
CATEGORIES:Trial
ATTACH;FMTTYPE=image/png:https://accv.ch/wp-content/uploads/2023/02/telechargement.png
END:VEVENT
BEGIN:VEVENT
DTSTART;VALUE=DATE:20230714
DTEND;VALUE=DATE:20230717
DTSTAMP:20260420T231402
CREATED:20230214T064014Z
LAST-MODIFIED:20230214T064014Z
UID:3151-1689292800-1689551999@accv.ch
SUMMARY:UCI Trials World Youth Games
DESCRIPTION:
URL:https://accv.ch/event/uci-trials-world-youth-games-3/
CATEGORIES:Trial
ATTACH;FMTTYPE=image/png:https://accv.ch/wp-content/uploads/2023/02/telechargement.png
END:VEVENT
BEGIN:VEVENT
DTSTART;VALUE=DATE:20230702
DTEND;VALUE=DATE:20230703
DTSTAMP:20260420T231402
CREATED:20230214T064532Z
LAST-MODIFIED:20230612T182104Z
UID:3159-1688256000-1688342399@accv.ch
SUMMARY:Coupe Suisse #5 / UCI C1
DESCRIPTION:
URL:https://accv.ch/event/coupe-suisse-4-uci-c1/
LOCATION:Bévilard\, Bévilard\, Suisse
CATEGORIES:Trial
ATTACH;FMTTYPE=image/png:https://accv.ch/wp-content/uploads/2021/05/VTM_rouge_txt-1.png
END:VEVENT
BEGIN:VEVENT
DTSTART;VALUE=DATE:20230625
DTEND;VALUE=DATE:20230626
DTSTAMP:20260420T231402
CREATED:20230214T063800Z
LAST-MODIFIED:20230612T181947Z
UID:3149-1687651200-1687737599@accv.ch
SUMMARY:Coupe Suisse #4
DESCRIPTION:
URL:https://accv.ch/event/coupe-suisse-3-2/
LOCATION:La Tour-de-Scay\, France
CATEGORIES:Trial
ATTACH;FMTTYPE=image/webp:https://accv.ch/wp-content/uploads/2023/02/VC-JURASSIA.webp
END:VEVENT
BEGIN:VEVENT
DTSTART;VALUE=DATE:20230624
DTEND;VALUE=DATE:20230625
DTSTAMP:20260420T231402
CREATED:20230315T131312Z
LAST-MODIFIED:20230612T181931Z
UID:3260-1687564800-1687651199@accv.ch
SUMMARY:Coupe Suisse #3
DESCRIPTION:
URL:https://accv.ch/event/coupe-suisse-3-3/
LOCATION:La Tour-de-Scay\, France
CATEGORIES:Trial
ATTACH;FMTTYPE=image/webp:https://accv.ch/wp-content/uploads/2023/02/VC-JURASSIA.webp
END:VEVENT
BEGIN:VEVENT
DTSTART;VALUE=DATE:20230624
DTEND;VALUE=DATE:20230625
DTSTAMP:20260420T231402
CREATED:20230214T063351Z
LAST-MODIFIED:20230612T181835Z
UID:3146-1687564800-1687651199@accv.ch
SUMMARY:Championnat Suisse
DESCRIPTION:
URL:https://accv.ch/event/championnat-suisse/
LOCATION:La Tour-de-Scay\, France
CATEGORIES:Trial
ATTACH;FMTTYPE=image/webp:https://accv.ch/wp-content/uploads/2023/02/VC-JURASSIA.webp
END:VEVENT
BEGIN:VEVENT
DTSTART;VALUE=DATE:20230430
DTEND;VALUE=DATE:20230501
DTSTAMP:20260420T231402
CREATED:20230214T063249Z
LAST-MODIFIED:20230216T135905Z
UID:3144-1682812800-1682899199@accv.ch
SUMMARY:Coupe Suisse #2
DESCRIPTION:
URL:https://accv.ch/event/coupe-suisse-2-2/
LOCATION:Malvaglia\, Suisse
CATEGORIES:Trial
END:VEVENT
BEGIN:VEVENT
DTSTART;VALUE=DATE:20230429
DTEND;VALUE=DATE:20230430
DTSTAMP:20260420T231402
CREATED:20230214T063155Z
LAST-MODIFIED:20230427T144840Z
UID:3141-1682726400-1682812799@accv.ch
SUMMARY:Coupe Suisse #1
DESCRIPTION:1ère manche de la coupe suisse 2023.
URL:https://accv.ch/event/coupe-suisse-1/
LOCATION:Malvaglia\, Suisse
CATEGORIES:Trial
END:VEVENT
BEGIN:VEVENT
DTSTART;VALUE=DATE:20230407
DTEND;VALUE=DATE:20230410
DTSTAMP:20260420T231402
CREATED:20230214T062933Z
LAST-MODIFIED:20230217T123704Z
UID:3138-1680825600-1681084799@accv.ch
SUMMARY:UCI Trials World Cup #1
DESCRIPTION:1ère manche de la coupe du monde UCI
URL:https://accv.ch/event/uci-trials-world-cup-1/
LOCATION:vic\, Espagne
CATEGORIES:Trial
ATTACH;FMTTYPE=image/png:https://accv.ch/wp-content/uploads/2023/02/telechargement.png
END:VEVENT
BEGIN:VEVENT
DTSTART;VALUE=DATE:20230312
DTEND;VALUE=DATE:20230313
DTSTAMP:20260420T231402
CREATED:20230216T135645Z
LAST-MODIFIED:20230217T123907Z
UID:3180-1678579200-1678665599@accv.ch
SUMMARY:Girls Day
DESCRIPTION:2e journée pour les filles\, quel que soit le niveau\, juste pour le plaisir de participer à une journée féminine\, sans contraintes.
URL:https://accv.ch/event/girls-day/
LOCATION:Bâle\, Bâle\, Suisse
CATEGORIES:Trial
ATTACH;FMTTYPE=image/jpeg:https://accv.ch/wp-content/uploads/2021/05/blog-btab2-800x600-1.jpg
END:VEVENT
BEGIN:VEVENT
DTSTART;VALUE=DATE:20221109
DTEND;VALUE=DATE:20221114
DTSTAMP:20260420T231402
CREATED:20220316T102505Z
LAST-MODIFIED:20220316T102505Z
UID:2216-1667952000-1668383999@accv.ch
SUMMARY:UCI trials World Championships
DESCRIPTION:
URL:https://accv.ch/event/uci-trials-world-championships/
LOCATION:Abu Dhabi (UAE)\, Émirats arabes unis
CATEGORIES:Trial
ATTACH;FMTTYPE=image/png:https://accv.ch/wp-content/uploads/2022/03/telechargement.png
END:VEVENT
BEGIN:VEVENT
DTSTART;TZID=Europe/Paris:20221009T080000
DTEND;TZID=Europe/Paris:20221009T170000
DTSTAMP:20260420T231403
CREATED:20220316T101704Z
LAST-MODIFIED:20220316T102206Z
UID:2208-1665302400-1665334800@accv.ch
SUMMARY:Coupe Suisse #(8)?
DESCRIPTION:
URL:https://accv.ch/event/coupe-suisse-6/
LOCATION:Palézieux-Village\, Palézieux-Village\, Suisse
CATEGORIES:Trial
ATTACH;FMTTYPE=image/jpeg:https://accv.ch/wp-content/uploads/2021/05/14479604_1755845938003024_2388736009115105147_n.jpg
END:VEVENT
BEGIN:VEVENT
DTSTART;TZID=Europe/Paris:20220925T080000
DTEND;TZID=Europe/Paris:20220925T170000
DTSTAMP:20260420T231403
CREATED:20220316T102109Z
LAST-MODIFIED:20220316T102134Z
UID:2213-1664092800-1664125200@accv.ch
SUMMARY:Coupe Suisse #(7)?
DESCRIPTION:
URL:https://accv.ch/event/coupe-suisse-7/
LOCATION:Münstertal bei Freiburg (GER)\, Allemagne
CATEGORIES:Trial
ATTACH;FMTTYPE=image/png:https://accv.ch/wp-content/uploads/2021/05/VTM_rouge_txt-1.png
END:VEVENT
BEGIN:VEVENT
DTSTART;TZID=Europe/Paris:20220924T080000
DTEND;TZID=Europe/Paris:20220924T170000
DTSTAMP:20260420T231403
CREATED:20220316T102027Z
LAST-MODIFIED:20220316T102027Z
UID:2210-1664006400-1664038800@accv.ch
SUMMARY:Coupe Suisse #(6)?
DESCRIPTION:
URL:https://accv.ch/event/coupe-suisse-6-2/
LOCATION:Münstertal bei Freiburg (GER)\, Allemagne
CATEGORIES:Trial
ATTACH;FMTTYPE=image/png:https://accv.ch/wp-content/uploads/2021/05/VTM_rouge_txt-1.png
END:VEVENT
BEGIN:VEVENT
DTSTART;TZID=Europe/Paris:20220911T080000
DTEND;TZID=Europe/Paris:20220911T170000
DTSTAMP:20260420T231403
CREATED:20220316T101531Z
LAST-MODIFIED:20220316T101556Z
UID:2206-1662883200-1662915600@accv.ch
SUMMARY:Coupe Suisse #5
DESCRIPTION:
URL:https://accv.ch/event/coupe-suisse-5/
LOCATION:Porrentruy\, Porrentruy\, 2900
CATEGORIES:Trial
ATTACH;FMTTYPE=image/png:https://accv.ch/wp-content/uploads/2022/03/vtcj.png
END:VEVENT
BEGIN:VEVENT
DTSTART;TZID=Europe/Paris:20220910T080000
DTEND;TZID=Europe/Paris:20220910T170000
DTSTAMP:20260420T231403
CREATED:20220316T101420Z
LAST-MODIFIED:20220316T101420Z
UID:2202-1662796800-1662829200@accv.ch
SUMMARY:Coupe Suisse #4
DESCRIPTION:
URL:https://accv.ch/event/coupe-suisse-4/
LOCATION:Porrentruy\, Porrentruy\, 2900
CATEGORIES:Trial
ATTACH;FMTTYPE=image/png:https://accv.ch/wp-content/uploads/2022/03/vtcj.png
END:VEVENT
BEGIN:VEVENT
DTSTART;VALUE=DATE:20220729
DTEND;VALUE=DATE:20220801
DTSTAMP:20260420T231403
CREATED:20220316T100952Z
LAST-MODIFIED:20220316T100952Z
UID:2198-1659052800-1659311999@accv.ch
SUMMARY:UCI Trials World Youth Games
DESCRIPTION:
URL:https://accv.ch/event/uci-trials-world-youth-games-2/
LOCATION:Wadowice (POL)\, Wadowice\, Pologne
CATEGORIES:Trial
ATTACH;FMTTYPE=image/png:https://accv.ch/wp-content/uploads/2022/03/telechargement.png
END:VEVENT
BEGIN:VEVENT
DTSTART;TZID=Europe/Paris:20220703T080000
DTEND;TZID=Europe/Paris:20220703T170000
DTSTAMP:20260420T231403
CREATED:20220316T100646Z
LAST-MODIFIED:20220316T100646Z
UID:2196-1656835200-1656867600@accv.ch
SUMMARY:Coupe Suisse #3
DESCRIPTION:
URL:https://accv.ch/event/coupe-suisse-3/
LOCATION:Moudon\, route de Siviriez\, Moudon\, 1510\, Suisse
CATEGORIES:Trial
ATTACH;FMTTYPE=image/png:https://accv.ch/wp-content/uploads/2022/03/VTBJ_Logo-1.png
ORGANIZER;CN="V%C3%A9lo trial Broye Jorat":MAILTO:velotrial.broyejorat@gmail.com
END:VEVENT
BEGIN:VEVENT
DTSTART;TZID=Europe/Paris:20220702T080000
DTEND;TZID=Europe/Paris:20220702T170000
DTSTAMP:20260420T231403
CREATED:20220316T100442Z
LAST-MODIFIED:20220316T100442Z
UID:2192-1656748800-1656781200@accv.ch
SUMMARY:Coupe Suisse #2
DESCRIPTION:
URL:https://accv.ch/event/coupe-suisse-2/
LOCATION:Moudon\, route de Siviriez\, Moudon\, 1510\, Suisse
CATEGORIES:Trial
ATTACH;FMTTYPE=image/png:https://accv.ch/wp-content/uploads/2022/03/VTBJ_Logo-1.png
ORGANIZER;CN="V%C3%A9lo trial Broye Jorat":MAILTO:velotrial.broyejorat@gmail.com
END:VEVENT
END:VCALENDAR