BEGIN:VCALENDAR
VERSION:2.0
PRODID:-//ACCV - ECPv6.2.8.2//NONSGML v1.0//EN
CALSCALE:GREGORIAN
METHOD:PUBLISH
X-ORIGINAL-URL:https://accv.ch
X-WR-CALDESC:évènements pour ACCV
REFRESH-INTERVAL;VALUE=DURATION:PT1H
X-Robots-Tag:noindex
X-PUBLISHED-TTL:PT1H
BEGIN:VTIMEZONE
TZID:Europe/Paris
BEGIN:DAYLIGHT
TZOFFSETFROM:+0100
TZOFFSETTO:+0200
TZNAME:CEST
DTSTART:20210328T010000
END:DAYLIGHT
BEGIN:STANDARD
TZOFFSETFROM:+0200
TZOFFSETTO:+0100
TZNAME:CET
DTSTART:20211031T010000
END:STANDARD
BEGIN:DAYLIGHT
TZOFFSETFROM:+0100
TZOFFSETTO:+0200
TZNAME:CEST
DTSTART:20220327T010000
END:DAYLIGHT
BEGIN:STANDARD
TZOFFSETFROM:+0200
TZOFFSETTO:+0100
TZNAME:CET
DTSTART:20221030T010000
END:STANDARD
END:VTIMEZONE
BEGIN:VEVENT
DTSTART;TZID=Europe/Paris:20220924T080000
DTEND;TZID=Europe/Paris:20220924T170000
DTSTAMP:20260421T040258
CREATED:20220316T102027Z
LAST-MODIFIED:20220316T102027Z
UID:2210-1664006400-1664038800@accv.ch
SUMMARY:Coupe Suisse #(6)?
DESCRIPTION:
URL:https://accv.ch/event/coupe-suisse-6-2/
LOCATION:Münstertal bei Freiburg (GER)\, Allemagne
CATEGORIES:Trial
ATTACH;FMTTYPE=image/png:https://accv.ch/wp-content/uploads/2021/05/VTM_rouge_txt-1.png
END:VEVENT
BEGIN:VEVENT
DTSTART;TZID=Europe/Paris:20220911T080000
DTEND;TZID=Europe/Paris:20220911T170000
DTSTAMP:20260421T040258
CREATED:20220316T101531Z
LAST-MODIFIED:20220316T101556Z
UID:2206-1662883200-1662915600@accv.ch
SUMMARY:Coupe Suisse #5
DESCRIPTION:
URL:https://accv.ch/event/coupe-suisse-5/
LOCATION:Porrentruy\, Porrentruy\, 2900
CATEGORIES:Trial
ATTACH;FMTTYPE=image/png:https://accv.ch/wp-content/uploads/2022/03/vtcj.png
END:VEVENT
BEGIN:VEVENT
DTSTART;TZID=Europe/Paris:20220910T080000
DTEND;TZID=Europe/Paris:20220910T170000
DTSTAMP:20260421T040258
CREATED:20220316T101420Z
LAST-MODIFIED:20220316T101420Z
UID:2202-1662796800-1662829200@accv.ch
SUMMARY:Coupe Suisse #4
DESCRIPTION:
URL:https://accv.ch/event/coupe-suisse-4/
LOCATION:Porrentruy\, Porrentruy\, 2900
CATEGORIES:Trial
ATTACH;FMTTYPE=image/png:https://accv.ch/wp-content/uploads/2022/03/vtcj.png
END:VEVENT
BEGIN:VEVENT
DTSTART;VALUE=DATE:20220729
DTEND;VALUE=DATE:20220801
DTSTAMP:20260421T040258
CREATED:20220316T100952Z
LAST-MODIFIED:20220316T100952Z
UID:2198-1659052800-1659311999@accv.ch
SUMMARY:UCI Trials World Youth Games
DESCRIPTION:
URL:https://accv.ch/event/uci-trials-world-youth-games-2/
LOCATION:Wadowice (POL)\, Wadowice\, Pologne
CATEGORIES:Trial
ATTACH;FMTTYPE=image/png:https://accv.ch/wp-content/uploads/2022/03/telechargement.png
END:VEVENT
BEGIN:VEVENT
DTSTART;TZID=Europe/Paris:20220703T080000
DTEND;TZID=Europe/Paris:20220703T170000
DTSTAMP:20260421T040258
CREATED:20220316T100646Z
LAST-MODIFIED:20220316T100646Z
UID:2196-1656835200-1656867600@accv.ch
SUMMARY:Coupe Suisse #3
DESCRIPTION:
URL:https://accv.ch/event/coupe-suisse-3/
LOCATION:Moudon\, route de Siviriez\, Moudon\, 1510\, Suisse
CATEGORIES:Trial
ATTACH;FMTTYPE=image/png:https://accv.ch/wp-content/uploads/2022/03/VTBJ_Logo-1.png
ORGANIZER;CN="V%C3%A9lo trial Broye Jorat":MAILTO:velotrial.broyejorat@gmail.com
END:VEVENT
BEGIN:VEVENT
DTSTART;TZID=Europe/Paris:20220702T080000
DTEND;TZID=Europe/Paris:20220702T170000
DTSTAMP:20260421T040258
CREATED:20220316T100442Z
LAST-MODIFIED:20220316T100442Z
UID:2192-1656748800-1656781200@accv.ch
SUMMARY:Coupe Suisse #2
DESCRIPTION:
URL:https://accv.ch/event/coupe-suisse-2/
LOCATION:Moudon\, route de Siviriez\, Moudon\, 1510\, Suisse
CATEGORIES:Trial
ATTACH;FMTTYPE=image/png:https://accv.ch/wp-content/uploads/2022/03/VTBJ_Logo-1.png
ORGANIZER;CN="V%C3%A9lo trial Broye Jorat":MAILTO:velotrial.broyejorat@gmail.com
END:VEVENT
BEGIN:VEVENT
DTSTART;TZID=Europe/Paris:20220626T080000
DTEND;TZID=Europe/Paris:20220626T170000
DTSTAMP:20260421T040258
CREATED:20220316T100016Z
LAST-MODIFIED:20220316T100548Z
UID:2190-1656230400-1656262800@accv.ch
SUMMARY:Championnat Suisse de vélo trial
DESCRIPTION:
URL:https://accv.ch/event/championnat-suisse-de-velo-trial-2/
LOCATION:Bévilard\, Bévilard\, Suisse
CATEGORIES:Trial
ATTACH;FMTTYPE=image/png:https://accv.ch/wp-content/uploads/2021/05/VTM_rouge_txt-1.png
END:VEVENT
BEGIN:VEVENT
DTSTART;TZID=Europe/Paris:20220626T080000
DTEND;TZID=Europe/Paris:20220626T170000
DTSTAMP:20260421T040258
CREATED:20220120T060344Z
LAST-MODIFIED:20220316T100513Z
UID:1960-1656230400-1656262800@accv.ch
SUMMARY:Coupe Suisse #1
DESCRIPTION:
URL:https://accv.ch/event/coupe-suisse/
LOCATION:Bévilard\, Bévilard\, Suisse
CATEGORIES:Trial
ATTACH;FMTTYPE=image/png:https://accv.ch/wp-content/uploads/2021/05/VTM_rouge_txt-1.png
END:VEVENT
BEGIN:VEVENT
DTSTART;TZID=Europe/Paris:20220205T170000
DTEND;TZID=Europe/Paris:20220205T230000
DTSTAMP:20260421T040258
CREATED:20211206T192606Z
LAST-MODIFIED:20220103T111534Z
UID:1835-1644080400-1644102000@accv.ch
SUMMARY:Assemblée générale de l'ACCV
DESCRIPTION:  \n  \nL’assemblée générale se tiendra\, sous réserve de modification\, en ville d’Aigle en fin de journée\, elle sera suivie d’un repas.
URL:https://accv.ch/event/assemblee-generale-de-laccv/
LOCATION:EPCA\, chemin des Maronniers 3\, Aigle\, 1860
CATEGORIES:BMX,Cyclocross,Piste,Pumptrack,Route,Trial,VTT
END:VEVENT
BEGIN:VEVENT
DTSTART;TZID=Europe/Paris:20211030T120000
DTEND;TZID=Europe/Paris:20211030T173000
DTSTAMP:20260421T040258
CREATED:20211012T105318Z
LAST-MODIFIED:20211012T105318Z
UID:1703-1635595200-1635615000@accv.ch
SUMMARY:Championnat Vaudois jeunesse de vélo trial
DESCRIPTION:5e édition du championnat Vaudois
URL:https://accv.ch/event/championnat-vaudois-jeunesse-de-velo-trial/
LOCATION:Ropraz
CATEGORIES:Trial
ORGANIZER;CN="V%C3%A9lo trial Broye Jorat":MAILTO:velotrial.broyejorat@gmail.com
END:VEVENT
BEGIN:VEVENT
DTSTART;TZID=Europe/Paris:20211010T080000
DTEND;TZID=Europe/Paris:20211010T170000
DTSTAMP:20260421T040258
CREATED:20210525T101329Z
LAST-MODIFIED:20210527T134334Z
UID:1433-1633852800-1633885200@accv.ch
SUMMARY:Coupe suisse de vélo trial #6
DESCRIPTION:Manche finale de la coupe Suisse
URL:https://accv.ch/event/coupe-suisse-de-velo-trial-6/
LOCATION:Palézieux-Village\, Palézieux-Village\, Suisse
CATEGORIES:Trial
ATTACH;FMTTYPE=image/jpeg:https://accv.ch/wp-content/uploads/2021/05/14479604_1755845938003024_2388736009115105147_n.jpg
END:VEVENT
BEGIN:VEVENT
DTSTART;TZID=Europe/Paris:20210926T080000
DTEND;TZID=Europe/Paris:20210926T170000
DTSTAMP:20260421T040258
CREATED:20210225T164727Z
LAST-MODIFIED:20210929T072448Z
UID:1138-1632643200-1632675600@accv.ch
SUMMARY:Coupe Suisse de vélo trial #5
DESCRIPTION:5e manche de la coupe Suisse 2021\, organisée sur l’ancienne place d’arme de Moudon.
URL:https://accv.ch/event/coupe-suisse-de-velo-trial/
LOCATION:Moudon\, route de Siviriez\, Moudon\, 1510\, Suisse
CATEGORIES:Trial
ATTACH;FMTTYPE=image/jpeg:https://accv.ch/wp-content/uploads/2021/02/IMG_2836-scaled.jpg
ORGANIZER;CN="V%C3%A9lo trial Broye Jorat":MAILTO:velotrial.broyejorat@gmail.com
END:VEVENT
BEGIN:VEVENT
DTSTART;TZID=Europe/Paris:20210912T080000
DTEND;TZID=Europe/Paris:20210912T170000
DTSTAMP:20260421T040258
CREATED:20210525T100152Z
LAST-MODIFIED:20210929T072427Z
UID:1431-1631433600-1631466000@accv.ch
SUMMARY:Coupe suisse de vélo trial #4
DESCRIPTION:4ème manche de la coupe suisse
URL:https://accv.ch/event/coupe-suisse-de-velo-trial-5-provisoire/
LOCATION:Delémont\, Delémont\, Suisse
CATEGORIES:Trial
ATTACH;FMTTYPE=image/png:https://accv.ch/wp-content/uploads/2021/05/vtcj.png
END:VEVENT
BEGIN:VEVENT
DTSTART;TZID=Europe/Paris:20210829T080000
DTEND;TZID=Europe/Paris:20210829T170000
DTSTAMP:20260421T040258
CREATED:20210525T095604Z
LAST-MODIFIED:20210525T095604Z
UID:1426-1630224000-1630256400@accv.ch
SUMMARY:Championnat Suisse de vélo trial
DESCRIPTION:Championnat suisse organisé dans le cadre de la manche #3 de la coupe suisse. \nNe concerne que les catégories Elite 20 » et 26 »\, les Juniors 20 » et 26 » ainsi que les femmes.
URL:https://accv.ch/event/championnat-suisse-de-velo-trial/
LOCATION:Vordemwald\, Vordemwald\, Suisse
CATEGORIES:Trial
ATTACH;FMTTYPE=image/jpeg:https://accv.ch/wp-content/uploads/2021/05/87939571_1083947548625264_7359800493217939456_n.jpg
ORGANIZER;CN="Radfahrerverein Vordemwald":MAILTO:info@rvvordemwald.ch
END:VEVENT
BEGIN:VEVENT
DTSTART;TZID=Europe/Paris:20210829T080000
DTEND;TZID=Europe/Paris:20210829T170000
DTSTAMP:20260421T040258
CREATED:20210525T094557Z
LAST-MODIFIED:20210525T094643Z
UID:1416-1630224000-1630256400@accv.ch
SUMMARY:Coupe suisse de vélo trial #3
DESCRIPTION:3ème manche de la coupe Suisse pour les catégories Découverte\, Poussins\, Benjamins\, Minimes et Cadets. \nPour les autres catégories : Championnats Suisse
URL:https://accv.ch/event/coupe-suisse-de-velo-trial-3-2/
LOCATION:Vordemwald\, Vordemwald\, Suisse
CATEGORIES:Trial
ATTACH;FMTTYPE=image/jpeg:https://accv.ch/wp-content/uploads/2021/05/image.jpg
ORGANIZER;CN="Radfahrerverein Vordemwald":MAILTO:info@rvvordemwald.ch
END:VEVENT
BEGIN:VEVENT
DTSTART;TZID=Europe/Paris:20210815T090000
DTEND;TZID=Europe/Paris:20210815T170000
DTSTAMP:20260421T040258
CREATED:20210512T110553Z
LAST-MODIFIED:20210707T091250Z
UID:1405-1629018000-1629046800@accv.ch
SUMMARY:Coupe Suisse de vélo trial #2
DESCRIPTION:2ème manche de la coupe suisse
URL:https://accv.ch/event/coupe-suisse-de-velo-trial-3/
LOCATION:Bévilard\, Bévilard\, Suisse
CATEGORIES:Trial
ATTACH;FMTTYPE=image/jpeg:https://accv.ch/wp-content/uploads/2021/05/207250136_2738180803140713_2465725024175821993_n.jpg
END:VEVENT
BEGIN:VEVENT
DTSTART;VALUE=DATE:20210723
DTEND;VALUE=DATE:20210726
DTSTAMP:20260421T040258
CREATED:20210525T095218Z
LAST-MODIFIED:20210602T120847Z
UID:1422-1626998400-1627257599@accv.ch
SUMMARY:ANNULÉS / UCI Trials World Youth Games (FRA) / ANNULÉS
DESCRIPTION:Jeux Mondiaux de la Jeunesse\, pour les catégories Jeunesses (Poussins\, Benjamins\, Minimes\, Cadets chez les garçons et Young Girls et Girls chez les filles).
URL:https://accv.ch/event/uci-trials-world-youth-games/
LOCATION:Cordon\, Cordon\, France
CATEGORIES:Trial
ATTACH;FMTTYPE=image/png:https://accv.ch/wp-content/uploads/2021/05/180478611_474849450521943_7191770114447611315_n.png
END:VEVENT
BEGIN:VEVENT
DTSTART;TZID=Europe/Paris:20210606T080000
DTEND;TZID=Europe/Paris:20210606T170000
DTSTAMP:20260421T040258
CREATED:20210510T172358Z
LAST-MODIFIED:20210616T123155Z
UID:1384-1622966400-1622998800@accv.ch
SUMMARY:Coupe Suisse de vélo trial #1
DESCRIPTION:1ère manche de la coupe suisse. \nSC1_2021_Resultate_Basel
URL:https://accv.ch/event/coupe-suisse-de-velo-trial-1/
LOCATION:Bâle\, Bâle\, Suisse
CATEGORIES:Trial
ATTACH;FMTTYPE=image/jpeg:https://accv.ch/wp-content/uploads/2021/05/blog-btab2-800x600-1.jpg
END:VEVENT
END:VCALENDAR